BEGIN:VCALENDAR
VERSION:2.0
PRODID:-//Calvary Baptist Church - ECPv6.15.1.1//NONSGML v1.0//EN
CALSCALE:GREGORIAN
METHOD:PUBLISH
X-ORIGINAL-URL:https://www.calvarylebanon.com
X-WR-CALDESC:Events for Calvary Baptist Church
REFRESH-INTERVAL;VALUE=DURATION:PT1H
X-Robots-Tag:noindex
X-PUBLISHED-TTL:PT1H
BEGIN:VTIMEZONE
TZID:America/Chicago
BEGIN:DAYLIGHT
TZOFFSETFROM:-0600
TZOFFSETTO:-0500
TZNAME:CDT
DTSTART:20210314T080000
END:DAYLIGHT
BEGIN:STANDARD
TZOFFSETFROM:-0500
TZOFFSETTO:-0600
TZNAME:CST
DTSTART:20211107T070000
END:STANDARD
BEGIN:DAYLIGHT
TZOFFSETFROM:-0600
TZOFFSETTO:-0500
TZNAME:CDT
DTSTART:20220313T080000
END:DAYLIGHT
BEGIN:STANDARD
TZOFFSETFROM:-0500
TZOFFSETTO:-0600
TZNAME:CST
DTSTART:20221106T070000
END:STANDARD
BEGIN:DAYLIGHT
TZOFFSETFROM:-0600
TZOFFSETTO:-0500
TZNAME:CDT
DTSTART:20230312T080000
END:DAYLIGHT
BEGIN:STANDARD
TZOFFSETFROM:-0500
TZOFFSETTO:-0600
TZNAME:CST
DTSTART:20231105T070000
END:STANDARD
BEGIN:DAYLIGHT
TZOFFSETFROM:-0600
TZOFFSETTO:-0500
TZNAME:CDT
DTSTART:20240310T080000
END:DAYLIGHT
BEGIN:STANDARD
TZOFFSETFROM:-0500
TZOFFSETTO:-0600
TZNAME:CST
DTSTART:20241103T070000
END:STANDARD
END:VTIMEZONE
BEGIN:VEVENT
DTSTART;TZID=America/Chicago:20240309T090000
DTEND;TZID=America/Chicago:20240309T120000
DTSTAMP:20260423T124210
CREATED:20231213T011849Z
LAST-MODIFIED:20231213T021731Z
UID:7041-1709974800-1709985600@www.calvarylebanon.com
SUMMARY:Financial Peace University - Week 9
DESCRIPTION:Sign Up Today by filling out this simple form.\nFinancial Peace University is a nine-lesson course that teaches you how to save for emergencies\, pay off debt fast\, spend wisely\, and invest for your future. We will focus on one lesson each Saturday for nine weeks. \nAfter our nine-week class\, the average FPU grad is debt-free in two years or less! We’re not saying it’s easy\, but it works—if you will. \nMoney simplified\nFPU lays the entire foundation for handling money in just nine lessons—it’s the fastest\, most streamlined way to get control. \nLasting change\nMoney isn’t a math problem—it’s a behavior problem. FPU will change your habits so you can transform your money and your future. \nReal support\nYour FPU coordinator and class members will put their arms around you (and kick your butt)—and it’s that kind of accountability that will cause you to win! \nWhat you get for 1 time $59.99 fee!\n\nAll nine on-demand video lessons\nThree months of premium access to the EveryDollar budgeting app\nA year of group financial coaching\nA free one-on-one financial coaching session\nFully editable digital workbook\n\nSign Up Today by filling out this simple form.\nSomeone will contact you about payment for your membership.
URL:https://www.calvarylebanon.com/event/financial-peace-university-week-1-9/
LOCATION:Calvary Baptist Church\, 2400 S Jefferson Ave\, Lebanon\, MO\, 65536\, United States
CATEGORIES:Community Events
ORGANIZER;CN="Calvary Baptist Church":MAILTO:eric@calvarylebanon.com
END:VEVENT
BEGIN:VEVENT
DTSTART;TZID=America/Chicago:20240302T090000
DTEND;TZID=America/Chicago:20240302T120000
DTSTAMP:20260423T124210
CREATED:20231213T011849Z
LAST-MODIFIED:20231213T021716Z
UID:7040-1709370000-1709380800@www.calvarylebanon.com
SUMMARY:Financial Peace University - Week 8
DESCRIPTION:Sign Up Today by filling out this simple form.\nFinancial Peace University is a nine-lesson course that teaches you how to save for emergencies\, pay off debt fast\, spend wisely\, and invest for your future. We will focus on one lesson each Saturday for nine weeks. \nAfter our nine-week class\, the average FPU grad is debt-free in two years or less! We’re not saying it’s easy\, but it works—if you will. \nMoney simplified\nFPU lays the entire foundation for handling money in just nine lessons—it’s the fastest\, most streamlined way to get control. \nLasting change\nMoney isn’t a math problem—it’s a behavior problem. FPU will change your habits so you can transform your money and your future. \nReal support\nYour FPU coordinator and class members will put their arms around you (and kick your butt)—and it’s that kind of accountability that will cause you to win! \nWhat you get for 1 time $59.99 fee!\n\nAll nine on-demand video lessons\nThree months of premium access to the EveryDollar budgeting app\nA year of group financial coaching\nA free one-on-one financial coaching session\nFully editable digital workbook\n\nSign Up Today by filling out this simple form.\nSomeone will contact you about payment for your membership.
URL:https://www.calvarylebanon.com/event/financial-peace-university-week-1-8/
LOCATION:Calvary Baptist Church\, 2400 S Jefferson Ave\, Lebanon\, MO\, 65536\, United States
CATEGORIES:Community Events
ORGANIZER;CN="Calvary Baptist Church":MAILTO:eric@calvarylebanon.com
END:VEVENT
BEGIN:VEVENT
DTSTART;TZID=America/Chicago:20240224T090000
DTEND;TZID=America/Chicago:20240224T120000
DTSTAMP:20260423T124210
CREATED:20231213T011849Z
LAST-MODIFIED:20231213T021700Z
UID:7039-1708765200-1708776000@www.calvarylebanon.com
SUMMARY:Financial Peace University - Week 7
DESCRIPTION:Sign Up Today by filling out this simple form.\nFinancial Peace University is a nine-lesson course that teaches you how to save for emergencies\, pay off debt fast\, spend wisely\, and invest for your future. We will focus on one lesson each Saturday for nine weeks. \nAfter our nine-week class\, the average FPU grad is debt-free in two years or less! We’re not saying it’s easy\, but it works—if you will. \nMoney simplified\nFPU lays the entire foundation for handling money in just nine lessons—it’s the fastest\, most streamlined way to get control. \nLasting change\nMoney isn’t a math problem—it’s a behavior problem. FPU will change your habits so you can transform your money and your future. \nReal support\nYour FPU coordinator and class members will put their arms around you (and kick your butt)—and it’s that kind of accountability that will cause you to win! \nWhat you get for 1 time $59.99 fee!\n\nAll nine on-demand video lessons\nThree months of premium access to the EveryDollar budgeting app\nA year of group financial coaching\nA free one-on-one financial coaching session\nFully editable digital workbook\n\nSign Up Today by filling out this simple form.\nSomeone will contact you about payment for your membership.
URL:https://www.calvarylebanon.com/event/financial-peace-university-week-1-7/
LOCATION:Calvary Baptist Church\, 2400 S Jefferson Ave\, Lebanon\, MO\, 65536\, United States
CATEGORIES:Community Events
ORGANIZER;CN="Calvary Baptist Church":MAILTO:eric@calvarylebanon.com
END:VEVENT
BEGIN:VEVENT
DTSTART;TZID=America/Chicago:20240217T090000
DTEND;TZID=America/Chicago:20240217T120000
DTSTAMP:20260423T124210
CREATED:20231213T011849Z
LAST-MODIFIED:20231213T021643Z
UID:7038-1708160400-1708171200@www.calvarylebanon.com
SUMMARY:Financial Peace University - Week 6
DESCRIPTION:Sign Up Today by filling out this simple form.\nFinancial Peace University is a nine-lesson course that teaches you how to save for emergencies\, pay off debt fast\, spend wisely\, and invest for your future. We will focus on one lesson each Saturday for nine weeks. \nAfter our nine-week class\, the average FPU grad is debt-free in two years or less! We’re not saying it’s easy\, but it works—if you will. \nMoney simplified\nFPU lays the entire foundation for handling money in just nine lessons—it’s the fastest\, most streamlined way to get control. \nLasting change\nMoney isn’t a math problem—it’s a behavior problem. FPU will change your habits so you can transform your money and your future. \nReal support\nYour FPU coordinator and class members will put their arms around you (and kick your butt)—and it’s that kind of accountability that will cause you to win! \nWhat you get for 1 time $59.99 fee!\n\nAll nine on-demand video lessons\nThree months of premium access to the EveryDollar budgeting app\nA year of group financial coaching\nA free one-on-one financial coaching session\nFully editable digital workbook\n\nSign Up Today by filling out this simple form.\nSomeone will contact you about payment for your membership.
URL:https://www.calvarylebanon.com/event/financial-peace-university-week-1-6/
LOCATION:Calvary Baptist Church\, 2400 S Jefferson Ave\, Lebanon\, MO\, 65536\, United States
CATEGORIES:Community Events
ORGANIZER;CN="Calvary Baptist Church":MAILTO:eric@calvarylebanon.com
END:VEVENT
BEGIN:VEVENT
DTSTART;TZID=America/Chicago:20240210T090000
DTEND;TZID=America/Chicago:20240210T120000
DTSTAMP:20260423T124210
CREATED:20231213T011849Z
LAST-MODIFIED:20231213T021627Z
UID:7037-1707555600-1707566400@www.calvarylebanon.com
SUMMARY:Financial Peace University - Week 5
DESCRIPTION:Sign Up Today by filling out this simple form.\nFinancial Peace University is a nine-lesson course that teaches you how to save for emergencies\, pay off debt fast\, spend wisely\, and invest for your future. We will focus on one lesson each Saturday for nine weeks. \nAfter our nine-week class\, the average FPU grad is debt-free in two years or less! We’re not saying it’s easy\, but it works—if you will. \nMoney simplified\nFPU lays the entire foundation for handling money in just nine lessons—it’s the fastest\, most streamlined way to get control. \nLasting change\nMoney isn’t a math problem—it’s a behavior problem. FPU will change your habits so you can transform your money and your future. \nReal support\nYour FPU coordinator and class members will put their arms around you (and kick your butt)—and it’s that kind of accountability that will cause you to win! \nWhat you get for 1 time $59.99 fee!\n\nAll nine on-demand video lessons\nThree months of premium access to the EveryDollar budgeting app\nA year of group financial coaching\nA free one-on-one financial coaching session\nFully editable digital workbook\n\nSign Up Today by filling out this simple form.\nSomeone will contact you about payment for your membership.
URL:https://www.calvarylebanon.com/event/financial-peace-university-week-1-5/
LOCATION:Calvary Baptist Church\, 2400 S Jefferson Ave\, Lebanon\, MO\, 65536\, United States
CATEGORIES:Community Events
ORGANIZER;CN="Calvary Baptist Church":MAILTO:eric@calvarylebanon.com
END:VEVENT
BEGIN:VEVENT
DTSTART;TZID=America/Chicago:20240203T090000
DTEND;TZID=America/Chicago:20240203T120000
DTSTAMP:20260423T124210
CREATED:20231213T011849Z
LAST-MODIFIED:20231213T021523Z
UID:7036-1706950800-1706961600@www.calvarylebanon.com
SUMMARY:Financial Peace University - Week 4
DESCRIPTION:Sign Up Today by filling out this simple form.\nFinancial Peace University is a nine-lesson course that teaches you how to save for emergencies\, pay off debt fast\, spend wisely\, and invest for your future. We will focus on one lesson each Saturday for nine weeks. \nAfter our nine-week class\, the average FPU grad is debt-free in two years or less! We’re not saying it’s easy\, but it works—if you will. \nMoney simplified\nFPU lays the entire foundation for handling money in just nine lessons—it’s the fastest\, most streamlined way to get control. \nLasting change\nMoney isn’t a math problem—it’s a behavior problem. FPU will change your habits so you can transform your money and your future. \nReal support\nYour FPU coordinator and class members will put their arms around you (and kick your butt)—and it’s that kind of accountability that will cause you to win! \nWhat you get for 1 time $59.99 fee!\n\nAll nine on-demand video lessons\nThree months of premium access to the EveryDollar budgeting app\nA year of group financial coaching\nA free one-on-one financial coaching session\nFully editable digital workbook\n\nSign Up Today by filling out this simple form.\nSomeone will contact you about payment for your membership.
URL:https://www.calvarylebanon.com/event/financial-peace-university-week-1-4/
LOCATION:Calvary Baptist Church\, 2400 S Jefferson Ave\, Lebanon\, MO\, 65536\, United States
CATEGORIES:Community Events
ORGANIZER;CN="Calvary Baptist Church":MAILTO:eric@calvarylebanon.com
END:VEVENT
BEGIN:VEVENT
DTSTART;TZID=America/Chicago:20240127T090000
DTEND;TZID=America/Chicago:20240127T120000
DTSTAMP:20260423T124210
CREATED:20231213T011849Z
LAST-MODIFIED:20231213T021538Z
UID:7035-1706346000-1706356800@www.calvarylebanon.com
SUMMARY:Financial Peace University - Week 3
DESCRIPTION:Sign Up Today by filling out this simple form.\nFinancial Peace University is a nine-lesson course that teaches you how to save for emergencies\, pay off debt fast\, spend wisely\, and invest for your future. We will focus on one lesson each Saturday for nine weeks. \nAfter our nine-week class\, the average FPU grad is debt-free in two years or less! We’re not saying it’s easy\, but it works—if you will. \nMoney simplified\nFPU lays the entire foundation for handling money in just nine lessons—it’s the fastest\, most streamlined way to get control. \nLasting change\nMoney isn’t a math problem—it’s a behavior problem. FPU will change your habits so you can transform your money and your future. \nReal support\nYour FPU coordinator and class members will put their arms around you (and kick your butt)—and it’s that kind of accountability that will cause you to win! \nWhat you get for 1 time $59.99 fee!\n\nAll nine on-demand video lessons\nThree months of premium access to the EveryDollar budgeting app\nA year of group financial coaching\nA free one-on-one financial coaching session\nFully editable digital workbook\n\nSign Up Today by filling out this simple form.\nSomeone will contact you about payment for your membership.
URL:https://www.calvarylebanon.com/event/financial-peace-university-week-1-3/
LOCATION:Calvary Baptist Church\, 2400 S Jefferson Ave\, Lebanon\, MO\, 65536\, United States
CATEGORIES:Community Events
ORGANIZER;CN="Calvary Baptist Church":MAILTO:eric@calvarylebanon.com
END:VEVENT
BEGIN:VEVENT
DTSTART;TZID=America/Chicago:20240120T090000
DTEND;TZID=America/Chicago:20240120T120000
DTSTAMP:20260423T124210
CREATED:20231213T011849Z
LAST-MODIFIED:20231213T021554Z
UID:7034-1705741200-1705752000@www.calvarylebanon.com
SUMMARY:Financial Peace University - Week 2
DESCRIPTION:Sign Up Today by filling out this simple form.\nFinancial Peace University is a nine-lesson course that teaches you how to save for emergencies\, pay off debt fast\, spend wisely\, and invest for your future. We will focus on one lesson each Saturday for nine weeks. \nAfter our nine-week class\, the average FPU grad is debt-free in two years or less! We’re not saying it’s easy\, but it works—if you will. \nMoney simplified\nFPU lays the entire foundation for handling money in just nine lessons—it’s the fastest\, most streamlined way to get control. \nLasting change\nMoney isn’t a math problem—it’s a behavior problem. FPU will change your habits so you can transform your money and your future. \nReal support\nYour FPU coordinator and class members will put their arms around you (and kick your butt)—and it’s that kind of accountability that will cause you to win! \nWhat you get for 1 time $59.99 fee!\n\nAll nine on-demand video lessons\nThree months of premium access to the EveryDollar budgeting app\nA year of group financial coaching\nA free one-on-one financial coaching session\nFully editable digital workbook\n\nSign Up Today by filling out this simple form.\nSomeone will contact you about payment for your membership.
URL:https://www.calvarylebanon.com/event/financial-peace-university-week-1-2/
LOCATION:Calvary Baptist Church\, 2400 S Jefferson Ave\, Lebanon\, MO\, 65536\, United States
CATEGORIES:Community Events
ORGANIZER;CN="Calvary Baptist Church":MAILTO:eric@calvarylebanon.com
END:VEVENT
BEGIN:VEVENT
DTSTART;TZID=America/Chicago:20240113T090000
DTEND;TZID=America/Chicago:20240113T120000
DTSTAMP:20260423T124210
CREATED:20231213T011849Z
LAST-MODIFIED:20231213T021445Z
UID:7028-1705136400-1705147200@www.calvarylebanon.com
SUMMARY:Financial Peace University
DESCRIPTION:Sign Up Today by filling out this simple form.\nFinancial Peace University is a nine-lesson course that teaches you how to save for emergencies\, pay off debt fast\, spend wisely\, and invest for your future. We will focus on one lesson each Saturday for nine weeks. \nAfter our nine-week class\, the average FPU grad is debt-free in two years or less! We’re not saying it’s easy\, but it works—if you will. \nMoney simplified\nFPU lays the entire foundation for handling money in just nine lessons—it’s the fastest\, most streamlined way to get control. \nLasting change\nMoney isn’t a math problem—it’s a behavior problem. FPU will change your habits so you can transform your money and your future. \nReal support\nYour FPU coordinator and class members will put their arms around you (and kick your butt)—and it’s that kind of accountability that will cause you to win! \nWhat you get for 1 time $59.99 fee!\n\nAll nine on-demand video lessons\nThree months of premium access to the EveryDollar budgeting app\nA year of group financial coaching\nA free one-on-one financial coaching session\nFully editable digital workbook\n\nSign Up Today by filling out this simple form.\nSomeone will contact you about payment for your membership.
URL:https://www.calvarylebanon.com/event/financial-peace-university-week-1/
LOCATION:Calvary Baptist Church\, 2400 S Jefferson Ave\, Lebanon\, MO\, 65536\, United States
CATEGORIES:Community Events
ORGANIZER;CN="Calvary Baptist Church":MAILTO:eric@calvarylebanon.com
END:VEVENT
BEGIN:VEVENT
DTSTART;TZID=America/Chicago:20230603T110000
DTEND;TZID=America/Chicago:20230603T130000
DTSTAMP:20260423T124210
CREATED:20230126T021850Z
LAST-MODIFIED:20230126T022951Z
UID:7010-1685790000-1685797200@www.calvarylebanon.com
SUMMARY:Kids Day at Boswell Park
DESCRIPTION:Join us for another fun-filled Kids Day at Boswell Park in Lebanon\, Mo. \nSaturday\, June 3rd\n11:00 a.m. to 1:00 p.m. \nOpen to the Public and FREE of charge \nWe will have free hot dogs\, chips\, drinks\, bounce houses\, games\, lots of prizes\, bicycle giveaways and plenty of fun things for the kids to do.  This event is free of charge and open to the entire community.
URL:https://www.calvarylebanon.com/event/kids-day-at-boswell-park-2/
LOCATION:Boswell Park\, 51 Drury Ln\, Lebanon\, MO\, 65536\, United States
CATEGORIES:Community Events,Kids Ministry
ORGANIZER;CN="Calvary Baptist Church":MAILTO:eric@calvarylebanon.com
END:VEVENT
BEGIN:VEVENT
DTSTART;TZID=America/Chicago:20221105T170000
DTEND;TZID=America/Chicago:20221105T200000
DTSTAMP:20260423T124210
CREATED:20220829T021942Z
LAST-MODIFIED:20220829T021942Z
UID:6974-1667667600-1667678400@www.calvarylebanon.com
SUMMARY:Fall Fest Dinner & Silent Auction
DESCRIPTION:Join us for our annual Fall Fest dinner and silent auction.  We will have soups\, chili\, desserts and plenty of fellowship.  Throughout the event we will have our silent auction with all proceeds going to support the youth group.  Silent auction will include homemade baked goods\, donated gifts\, gift baskets\, crafts and handmade items.
URL:https://www.calvarylebanon.com/event/fall-fest-dinner-silent-auction/
LOCATION:Calvary Baptist Church\, 2400 S Jefferson Ave\, Lebanon\, MO\, 65536\, United States
CATEGORIES:Community Events,Kids Ministry
ATTACH;FMTTYPE=image/gif:https://www.calvarylebanon.com/wp-content/uploads/2022/08/Fall-Festival-Flyer-851-x-315-px.gif
END:VEVENT
BEGIN:VEVENT
DTSTART;TZID=America/Chicago:20221008T100000
DTEND;TZID=America/Chicago:20221008T130000
DTSTAMP:20260423T124210
CREATED:20220829T022312Z
LAST-MODIFIED:20220829T022312Z
UID:6977-1665223200-1665234000@www.calvarylebanon.com
SUMMARY:Fall Vendor Expo
DESCRIPTION:Join us for our first Fall Vendor Expo. We will have a variety of vendors including crafts\, collectibles\, home decor and much more. Free admission. For information on booth rental email aleahmichelle@gmail.com
URL:https://www.calvarylebanon.com/event/fall-vendor-expo/
LOCATION:Calvary Baptist Church\, 2400 S Jefferson Ave\, Lebanon\, MO\, 65536\, United States
CATEGORIES:Community Events
ATTACH;FMTTYPE=image/jpeg:https://www.calvarylebanon.com/wp-content/uploads/2022/08/297589259_2276447152506326_8797998508912520052_n.jpg
END:VEVENT
BEGIN:VEVENT
DTSTART;TZID=America/Chicago:20220902T173000
DTEND;TZID=America/Chicago:20220902T200000
DTSTAMP:20260423T124210
CREATED:20220829T014014Z
LAST-MODIFIED:20220829T014014Z
UID:6971-1662139800-1662148800@www.calvarylebanon.com
SUMMARY:David - Live
DESCRIPTION:Join us for a live streaming of Sight & Sound Theater’s stage performance of David on the big projector screen at Calvary. Filled with towering giants\, wild animals\, and Philistine soldiers\, David’s ascent to the throne will come to life like never before.
URL:https://www.calvarylebanon.com/event/david-live/
LOCATION:Calvary Baptist Church\, 2400 S Jefferson Ave\, Lebanon\, MO\, 65536\, United States
CATEGORIES:Community Events
ATTACH;FMTTYPE=image/jpeg:https://www.calvarylebanon.com/wp-content/uploads/2022/08/300799638_2288716277946080_2341436179756436847_n.jpg
END:VEVENT
BEGIN:VEVENT
DTSTART;TZID=America/Chicago:20220604T110000
DTEND;TZID=America/Chicago:20220604T130000
DTSTAMP:20260423T124210
CREATED:20220322T192751Z
LAST-MODIFIED:20220322T192751Z
UID:6932-1654340400-1654347600@www.calvarylebanon.com
SUMMARY:Kids Day at Boswell Park
DESCRIPTION:Join us for another fun-filled Kids Day.  We will have bounce houses\, games\, lots of prizes\, bicycle giveaways and plenty of fun things for the kids to do.  This even is free of charge and open to the entire community.
URL:https://www.calvarylebanon.com/event/kids-day-at-boswell-park/
LOCATION:Boswell Park\, 51 Drury Ln\, Lebanon\, MO\, 65536\, United States
CATEGORIES:Community Events,Kids Ministry
ORGANIZER;CN="Calvary Baptist Church":MAILTO:eric@calvarylebanon.com
END:VEVENT
BEGIN:VEVENT
DTSTART;TZID=America/Chicago:20220410T110000
DTEND;TZID=America/Chicago:20220410T120000
DTSTAMP:20260423T124210
CREATED:20220322T190126Z
LAST-MODIFIED:20220322T190740Z
UID:6926-1649588400-1649592000@www.calvarylebanon.com
SUMMARY:Truelove Quartet Concert
DESCRIPTION:Join us for a wonderful service by Truelove Quartet.  They will be presenting the gospel through their amazing musical gift like only they can do. Free of charge and completely open to everyone to attend. Children’s church services will be offered as well for the little ones.
URL:https://www.calvarylebanon.com/event/truelove-quartet-concert/
LOCATION:Calvary Baptist Church\, 2400 S Jefferson Ave\, Lebanon\, MO\, 65536\, United States
CATEGORIES:Community Events,Special Services
ATTACH;FMTTYPE=image/jpeg:https://www.calvarylebanon.com/wp-content/uploads/2022/03/203781167_10225335063625740_4048016087583287881_n.jpeg
END:VEVENT
BEGIN:VEVENT
DTSTART;TZID=America/Chicago:20211211T130000
DTEND;TZID=America/Chicago:20211211T143000
DTSTAMP:20260423T124210
CREATED:20211110T085239Z
LAST-MODIFIED:20211110T085239Z
UID:6792-1639227600-1639233000@www.calvarylebanon.com
SUMMARY:Pictures With Santa
DESCRIPTION:
URL:https://www.calvarylebanon.com/event/pictures-with-santa/
LOCATION:Farmers Market Pavillion\, 200 S Jefferson Ave\, Lebanon\, MO\, 65536\, United States
CATEGORIES:Community Events
ATTACH;FMTTYPE=image/jpeg:https://www.calvarylebanon.com/wp-content/uploads/2021/11/santapictures.jpg
END:VEVENT
END:VCALENDAR