BEGIN:VCALENDAR
VERSION:2.0
PRODID:-//Calvary Baptist Church - ECPv6.15.1.1//NONSGML v1.0//EN
CALSCALE:GREGORIAN
METHOD:PUBLISH
X-WR-CALNAME:Calvary Baptist Church
X-ORIGINAL-URL:https://www.calvarylebanon.com
X-WR-CALDESC:Events for Calvary Baptist Church
REFRESH-INTERVAL;VALUE=DURATION:PT1H
X-Robots-Tag:noindex
X-PUBLISHED-TTL:PT1H
BEGIN:VTIMEZONE
TZID:America/Chicago
BEGIN:DAYLIGHT
TZOFFSETFROM:-0600
TZOFFSETTO:-0500
TZNAME:CDT
DTSTART:20210314T080000
END:DAYLIGHT
BEGIN:STANDARD
TZOFFSETFROM:-0500
TZOFFSETTO:-0600
TZNAME:CST
DTSTART:20211107T070000
END:STANDARD
END:VTIMEZONE
BEGIN:VEVENT
DTSTART;TZID=America/Chicago:20211219T110000
DTEND;TZID=America/Chicago:20211219T120000
DTSTAMP:20260423T110230
CREATED:20211207T175807Z
LAST-MODIFIED:20211207T175807Z
UID:6829-1639911600-1639915200@www.calvarylebanon.com
SUMMARY:Kids' Christmas Program
DESCRIPTION:
URL:https://www.calvarylebanon.com/event/kids-christmas-program/
LOCATION:Calvary Baptist Church\, 2400 S Jefferson Ave\, Lebanon\, MO\, 65536\, United States
END:VEVENT
BEGIN:VEVENT
DTSTART;TZID=America/Chicago:20211212T090000
DTEND;TZID=America/Chicago:20211212T100000
DTSTAMP:20260423T110230
CREATED:20211207T175909Z
LAST-MODIFIED:20211207T175909Z
UID:6831-1639299600-1639303200@www.calvarylebanon.com
SUMMARY:Christmas Breakfast
DESCRIPTION:We will be having breakfast Sunday morning starting at 9 a.m.  Bring a dish and invite a friend!
URL:https://www.calvarylebanon.com/event/christmas-breakfast/
LOCATION:Calvary Baptist Church\, 2400 S Jefferson Ave\, Lebanon\, MO\, 65536\, United States
END:VEVENT
BEGIN:VEVENT
DTSTART;TZID=America/Chicago:20211211T130000
DTEND;TZID=America/Chicago:20211211T143000
DTSTAMP:20260423T110230
CREATED:20211110T085239Z
LAST-MODIFIED:20211110T085239Z
UID:6792-1639227600-1639233000@www.calvarylebanon.com
SUMMARY:Pictures With Santa
DESCRIPTION:
URL:https://www.calvarylebanon.com/event/pictures-with-santa/
LOCATION:Farmers Market Pavillion\, 200 S Jefferson Ave\, Lebanon\, MO\, 65536\, United States
CATEGORIES:Community Events
ATTACH;FMTTYPE=image/jpeg:https://www.calvarylebanon.com/wp-content/uploads/2021/11/santapictures.jpg
END:VEVENT
BEGIN:VEVENT
DTSTART;TZID=America/Chicago:20211114T120000
DTEND;TZID=America/Chicago:20211114T130000
DTSTAMP:20260423T110230
CREATED:20211110T084551Z
LAST-MODIFIED:20211110T084551Z
UID:6787-1636891200-1636894800@www.calvarylebanon.com
SUMMARY:Sunday Dinner
DESCRIPTION:Family dinner immediately following Sunday morning church service.
URL:https://www.calvarylebanon.com/event/sunday-dinner/
LOCATION:Calvary Baptist Church\, 2400 S Jefferson Ave\, Lebanon\, MO\, 65536\, United States
CATEGORIES:Meals
ATTACH;FMTTYPE=image/jpeg:https://www.calvarylebanon.com/wp-content/uploads/2021/11/talking-by-dinner-2021-09-24-03-38-44-utc.jpg
END:VEVENT
END:VCALENDAR